BEGIN:VCALENDAR
PRODID:-//SINGPromos.com//NONSGML v1.0//EN
VERSION:2.0
CALSCALE:GREGORIAN
METHOD:PUBLISH
X-WR-CALNAME:SINGPromos.com
X-ORIGINAL-URL:https://singpromos.com
X-WR-CALDESC:Events for SINGPromos.com
BEGIN:VEVENT
DTSTART:20111126T000000
DTEND:20111202T235900
DTSTAMP:20260420T214023
CREATED:20111130T032425
LAST-MODIFIED:20111130T032425
UID:19949@https://singpromos.com
SUMMARY:Harvey Norman Electronics, Mattress & Recliner Offers 26 Nov - 2 Dec 2011
DESCRIPTION:Harvey Norman has (again) extended their Awesome Celebratory Specials sale for their 10th Anniversary Sale from today till 2 December 2011. Get free Thank You Cards that guarantees up to $1000 cash back with minimum spend. For more information, visit [ https://singpromos.com/computers-pc/harvey-norman-electronics-mattress-recliner-offers-26-nov-2-dec-2011-19949/ ]. 
LOCATION:
URL:https://singpromos.com/computers-pc/harvey-norman-electronics-mattress-recliner-offers-26-nov-2-dec-2011-19949/
END:VEVENT
END:VCALENDAR