BEGIN:VCALENDAR
PRODID:-//SINGPromos.com//NONSGML v1.0//EN
VERSION:2.0
CALSCALE:GREGORIAN
METHOD:PUBLISH
X-WR-CALNAME:SINGPromos.com
X-ORIGINAL-URL:https://singpromos.com
X-WR-CALDESC:Events for SINGPromos.com
BEGIN:VEVENT
DTSTART:20170323T000000
DTEND:20170324T235900
DTSTAMP:20260420T001415
CREATED:20170323T000906
LAST-MODIFIED:20170323T000906
UID:199615@https://singpromos.com
SUMMARY:Save 5% to 25% OFF ALL Groupon Beauty, Leisure & Services, Dining Deals (NO Min Spend) promo code valid from 23 - 24 Mar 2017
DESCRIPTION:Get 5% to 25% off ALL Beauty, Leisure & Services, Dining deals with the promo code below at checkout at Groupon Singapore. Valid only for Beauty, Leisure & Services, Dining deals (Beauty 25%, Leisure & Services 15%, Dining 5%). For more information, visit [ https://singpromos.com/department-stores/save-5-to-25-off-all-groupon-beauty-leisure-services-dining-deals-no-min-spend-promo-code-valid-from-23-24-mar-2017-199615/ ]. 
LOCATION:
URL:https://singpromos.com/department-stores/save-5-to-25-off-all-groupon-beauty-leisure-services-dining-deals-no-min-spend-promo-code-valid-from-23-24-mar-2017-199615/
END:VEVENT
END:VCALENDAR