BEGIN:VCALENDAR
PRODID:-//SINGPromos.com//NONSGML v1.0//EN
VERSION:2.0
CALSCALE:GREGORIAN
METHOD:PUBLISH
X-WR-CALNAME:SINGPromos.com
X-ORIGINAL-URL:https://singpromos.com
X-WR-CALDESC:Events for SINGPromos.com
BEGIN:VEVENT
DTSTART:20170331T000000
DTEND:20170402T235900
DTSTAMP:20260422T203038
CREATED:20170324T205853
LAST-MODIFIED:20170328T120232
UID:199724@https://singpromos.com
SUMMARY:IT Expo offers discounts of up to 90% off at Singapore Expo from 31 Mar - 2 Apr 2017
DESCRIPTION:IT Expo will be having its next Electronic Fair show at Singapore Expo Hall 6 from 31 March to 2 April, 11am - 9pm. Over $30 million worth of stocks to be cleared! There will be a wide variety of stocks being cleared as they are overstocked, at up to 90%!. For more information, visit [ https://singpromos.com/warehouse-sales/it-expo-offers-discounts-of-up-to-90-off-at-singapore-expo-from-31-mar-2-apr-2017-199724/ ]. 
LOCATION:486150
URL:https://singpromos.com/warehouse-sales/it-expo-offers-discounts-of-up-to-90-off-at-singapore-expo-from-31-mar-2-apr-2017-199724/
END:VEVENT
END:VCALENDAR