BEGIN:VCALENDAR
PRODID:-//SINGPromos.com//NONSGML v1.0//EN
VERSION:2.0
CALSCALE:GREGORIAN
METHOD:PUBLISH
X-WR-CALNAME:SINGPromos.com
X-ORIGINAL-URL:https://singpromos.com
X-WR-CALDESC:Events for SINGPromos.com
BEGIN:VEVENT
DTSTART:20170329T000000
DTEND:20170428T235900
DTSTAMP:20260420T045004
CREATED:20170329T144954
LAST-MODIFIED:20170329T145126
UID:199822@https://singpromos.com
SUMMARY:Singtel Exclusive: 1-for-1 buffet deals at Saltwater Cafe, Katong Kitchen, Straits Cafe & more from 29 Mar 2017
DESCRIPTION:Singtel has released new promotions for their customers! Choose from 1-for-1 Buffet at Straits Cafe, 1-for-1 Buffet at Katong Kitchen, 1-for-1 Buffet at Saltwater Cafe or 1-for-1 Set Platter at Spicy House!. For more information, visit [ https://singpromos.com/dining-restaurants-food/singtel-exclusive-1-for-1-buffet-deals-at-saltwater-cafe-katong-kitchen-straits-cafe-more-from-29-mar-2017-199822/ ]. 
LOCATION:
URL:https://singpromos.com/dining-restaurants-food/singtel-exclusive-1-for-1-buffet-deals-at-saltwater-cafe-katong-kitchen-straits-cafe-more-from-29-mar-2017-199822/
END:VEVENT
END:VCALENDAR