BEGIN:VCALENDAR
PRODID:-//SINGPromos.com//NONSGML v1.0//EN
VERSION:2.0
CALSCALE:GREGORIAN
METHOD:PUBLISH
X-WR-CALNAME:SINGPromos.com
X-ORIGINAL-URL:https://singpromos.com
X-WR-CALDESC:Events for SINGPromos.com
BEGIN:VEVENT
DTSTART:20170507T000000
DTEND:20170507T235900
DTSTAMP:20260420T042603
CREATED:20170329T161829
LAST-MODIFIED:20170507T113608
UID:199857@https://singpromos.com
SUMMARY:Popeyes 5pcs chicken for $5.90 one-day deal returns on Sunday, 7 May 2017
DESCRIPTION:Mark your calendar! The next Popeyes Day will be happening on Sunday, 7 May 2017 with the best deal highlight of 5 pieces of mild/spicy Bone-in-Chicken going for just $5.90.. For more information, visit [ https://singpromos.com/dining-restaurants-food/popeyes-5-90-5pcs-chicken-popeyes-day-deal-returns-on-7-may-2017-199857/ ]. 
LOCATION:
URL:https://singpromos.com/dining-restaurants-food/popeyes-5-90-5pcs-chicken-popeyes-day-deal-returns-on-7-may-2017-199857/
END:VEVENT
END:VCALENDAR