BEGIN:VCALENDAR
PRODID:-//SINGPromos.com//NONSGML v1.0//EN
VERSION:2.0
CALSCALE:GREGORIAN
METHOD:PUBLISH
X-WR-CALNAME:SINGPromos.com
X-ORIGINAL-URL:https://singpromos.com
X-WR-CALDESC:Events for SINGPromos.com
BEGIN:VEVENT
DTSTART:20170403T000000
DTEND:20170404T235900
DTSTAMP:20260420T001447
CREATED:20170403T003359
LAST-MODIFIED:20170403T003359
UID:200124@https://singpromos.com
SUMMARY:Save 5% to 25% OFF ALL Groupon Beauty, Leisure & Services, Dining Deals (NO Min Spend) promo code valid from 3 - 4 Apr 2017
DESCRIPTION:Get 5% to 25% off ALL Beauty, Leisure & Services, Dining deals with the promo code below at checkout at Groupon Singapore. Valid only for Beauty, Leisure & Services, Dining deals (Beauty 25%, Leisure & Services 15%, Dining 5%). For more information, visit [ https://singpromos.com/department-stores/save-5-to-25-off-all-groupon-beauty-leisure-services-dining-deals-no-min-spend-promo-code-valid-from-3-4-apr-2017-200124/ ]. 
LOCATION:
URL:https://singpromos.com/department-stores/save-5-to-25-off-all-groupon-beauty-leisure-services-dining-deals-no-min-spend-promo-code-valid-from-3-4-apr-2017-200124/
END:VEVENT
END:VCALENDAR