BEGIN:VCALENDAR
PRODID:-//SINGPromos.com//NONSGML v1.0//EN
VERSION:2.0
CALSCALE:GREGORIAN
METHOD:PUBLISH
X-WR-CALNAME:SINGPromos.com
X-ORIGINAL-URL:https://singpromos.com
X-WR-CALDESC:Events for SINGPromos.com
BEGIN:VEVENT
DTSTART:20170412T000000
DTEND:20170416T235900
DTSTAMP:20260422T082136
CREATED:20170403T180509
LAST-MODIFIED:20170403T180509
UID:200150@https://singpromos.com
SUMMARY:POPULAR's warehouse sale returns featuring discounts of up to 90% off from 12 - 16 Apr 2017
DESCRIPTION:Attention smart shoppers! POPULAR has good news to share! From 12 - 16 April, POPULAR will be having a Warehouse Sale at its Serangoon North HQ.. For more information, visit [ https://singpromos.com/warehouse-sales/populars-warehouse-sale-returns-featuring-discounts-of-up-to-90-off-from-12-16-apr-2017-200150/ ]. 
LOCATION:15 Serangoon North Ave 5, 554360
URL:https://singpromos.com/warehouse-sales/populars-warehouse-sale-returns-featuring-discounts-of-up-to-90-off-from-12-16-apr-2017-200150/
END:VEVENT
END:VCALENDAR