BEGIN:VCALENDAR
PRODID:-//SINGPromos.com//NONSGML v1.0//EN
VERSION:2.0
CALSCALE:GREGORIAN
METHOD:PUBLISH
X-WR-CALNAME:SINGPromos.com
X-ORIGINAL-URL:https://singpromos.com
X-WR-CALDESC:Events for SINGPromos.com
BEGIN:VEVENT
DTSTART:20170405T000000
DTEND:20170416T235900
DTSTAMP:20260422T082144
CREATED:20170405T203343
LAST-MODIFIED:20170405T203343
UID:200234@https://singpromos.com
SUMMARY:Costa Coffee offers 1-for-1 Blackberry and Raspberry Fruit Coolers from 5 - 16 Apr 2017
DESCRIPTION:Double the flavour, double the goodness & double the fun, all for the price of one! Head down to any Costa store to grab the 1-FOR-1 Blackberry and Raspberry Fruit Coolers today.. For more information, visit [ https://singpromos.com/dining-restaurants-food/costa-coffee-offers-1-for-1-blackberry-and-raspberry-fruit-coolers-from-5-16-apr-2017-200234/ ]. 
LOCATION:
URL:https://singpromos.com/dining-restaurants-food/costa-coffee-offers-1-for-1-blackberry-and-raspberry-fruit-coolers-from-5-16-apr-2017-200234/
END:VEVENT
END:VCALENDAR