BEGIN:VCALENDAR
PRODID:-//SINGPromos.com//NONSGML v1.0//EN
VERSION:2.0
CALSCALE:GREGORIAN
METHOD:PUBLISH
X-WR-CALNAME:SINGPromos.com
X-ORIGINAL-URL:https://singpromos.com
X-WR-CALDESC:Events for SINGPromos.com
BEGIN:VEVENT
DTSTART:20170417T000000
DTEND:20170422T235900
DTSTAMP:20260422T082107
CREATED:20170413T202343
LAST-MODIFIED:20170413T202343
UID:200562@https://singpromos.com
SUMMARY:Delifrance: 50% off any coffee beverage when you bring your own mug from 17 - 22 Apr 2017
DESCRIPTION:Bring your own mug & enjoy 50% off any coffee beverage from 17 - 22 April! Tag your friends to share your love for Earth. Every small step counts.. For more information, visit [ https://singpromos.com/dining-restaurants-food/delifrance-50-off-any-coffee-beverage-when-you-bring-your-own-mug-from-17-22-apr-2017-200562/ ]. 
LOCATION:
URL:https://singpromos.com/dining-restaurants-food/delifrance-50-off-any-coffee-beverage-when-you-bring-your-own-mug-from-17-22-apr-2017-200562/
END:VEVENT
END:VCALENDAR