BEGIN:VCALENDAR
PRODID:-//SINGPromos.com//NONSGML v1.0//EN
VERSION:2.0
CALSCALE:GREGORIAN
METHOD:PUBLISH
X-WR-CALNAME:SINGPromos.com
X-ORIGINAL-URL:https://singpromos.com
X-WR-CALDESC:Events for SINGPromos.com
BEGIN:VEVENT
DTSTART:20170414T000000
DTEND:20170414T235900
DTSTAMP:20260420T165239
CREATED:20170414T141120
LAST-MODIFIED:20170414T141215
UID:200566@https://singpromos.com
SUMMARY:Grab fares fr $37 all-in to 20 destinations with Jetstar's latest Friday Frenzy sale! Book by 11pm, 14 Apr 2017
DESCRIPTION:Check out Jetstar's Good Friday frenzy fares to Taipei, Bali, Hong Kong and many more. Sale ends 11pm tonight!. For more information, visit [ https://singpromos.com/airlines-flights/grab-fares-fr-37-all-in-to-20-destinations-with-jetstars-latest-friday-frenzy-sale-book-by-11pm-14-apr-2017-200566/ ]. 
LOCATION:
URL:https://singpromos.com/airlines-flights/grab-fares-fr-37-all-in-to-20-destinations-with-jetstars-latest-friday-frenzy-sale-book-by-11pm-14-apr-2017-200566/
END:VEVENT
END:VCALENDAR