BEGIN:VCALENDAR
PRODID:-//SINGPromos.com//NONSGML v1.0//EN
VERSION:2.0
CALSCALE:GREGORIAN
METHOD:PUBLISH
X-WR-CALNAME:SINGPromos.com
X-ORIGINAL-URL:https://singpromos.com
X-WR-CALDESC:Events for SINGPromos.com
BEGIN:VEVENT
DTSTART:20170417T000000
DTEND:20170421T235900
DTSTAMP:20260420T165240
CREATED:20170417T144058
LAST-MODIFIED:20170417T144038
UID:200621@https://singpromos.com
SUMMARY:Jetstar: Post Easter Sale starts now featuring all-in sale fares from $35! Book your next vacation today from 17 - 21 Apr 2017
DESCRIPTION:Book that getaway you deserve! Sale ends 21 April! ^Things you need to know. Carry-on baggage limits, including size restrictions, will be strictly applied.. For more information, visit [ https://singpromos.com/airlines-flights/jetstar-post-easter-sale-starts-now-featuring-all-in-sale-fares-from-35-book-your-next-vacation-today-from-17-21-apr-2017-200621/ ]. 
LOCATION:
URL:https://singpromos.com/airlines-flights/jetstar-post-easter-sale-starts-now-featuring-all-in-sale-fares-from-35-book-your-next-vacation-today-from-17-21-apr-2017-200621/
END:VEVENT
END:VCALENDAR