BEGIN:VCALENDAR
PRODID:-//SINGPromos.com//NONSGML v1.0//EN
VERSION:2.0
CALSCALE:GREGORIAN
METHOD:PUBLISH
X-WR-CALNAME:SINGPromos.com
X-ORIGINAL-URL:https://singpromos.com
X-WR-CALDESC:Events for SINGPromos.com
BEGIN:VEVENT
DTSTART:20170410T000000
DTEND:20170521T235900
DTSTAMP:20260420T055443
CREATED:20170419T034514
LAST-MODIFIED:20170419T111420
UID:200666@https://singpromos.com
SUMMARY:Suntec City: Over 15 1-for-1 F&B deals to whet your appetite from 10 Apr - 21 May 2017
DESCRIPTION:Singaporeans sure love a good meal, and even better when a multitude of options can be found in a single location. Did we say more than a hundred choices of restaurants, cafes, watering holes, take-outs and food courts at Suntec City? Indeed.. For more information, visit [ https://singpromos.com/dining-restaurants-food/suntec-city-over-15-1-for-1-fb-deals-to-whet-your-appetite-from-10-apr-21-may-2017-200666/ ]. 
LOCATION:038983
URL:https://singpromos.com/dining-restaurants-food/suntec-city-over-15-1-for-1-fb-deals-to-whet-your-appetite-from-10-apr-21-may-2017-200666/
END:VEVENT
END:VCALENDAR