BEGIN:VCALENDAR
PRODID:-//SINGPromos.com//NONSGML v1.0//EN
VERSION:2.0
CALSCALE:GREGORIAN
METHOD:PUBLISH
X-WR-CALNAME:SINGPromos.com
X-ORIGINAL-URL:https://singpromos.com
X-WR-CALDESC:Events for SINGPromos.com
BEGIN:VEVENT
DTSTART:20170420T000000
DTEND:20170508T235900
DTSTAMP:20260420T074441
CREATED:20170421T132710
LAST-MODIFIED:20170421T132756
UID:200740@https://singpromos.com
SUMMARY:Singapore Airlines launches new app-exclusive fares fr $70 all-in return! Book from now till 8 May 2017
DESCRIPTION:Don't miss out on Singapore Airlines exclusive in-app celebratory fares to 12 destinations! Download SingaporeAir app now to enjoy greater travel convenience.. For more information, visit [ https://singpromos.com/airlines-flights/singapore-airlines-launches-new-app-exclusive-fares-fr-70-all-in-return-book-from-now-till-8-may-2017-200740/ ]. 
LOCATION:
URL:https://singpromos.com/airlines-flights/singapore-airlines-launches-new-app-exclusive-fares-fr-70-all-in-return-book-from-now-till-8-may-2017-200740/
END:VEVENT
END:VCALENDAR