BEGIN:VCALENDAR
PRODID:-//SINGPromos.com//NONSGML v1.0//EN
VERSION:2.0
CALSCALE:GREGORIAN
METHOD:PUBLISH
X-WR-CALNAME:SINGPromos.com
X-ORIGINAL-URL:https://singpromos.com
X-WR-CALDESC:Events for SINGPromos.com
BEGIN:VEVENT
DTSTART:20170422T000000
DTEND:20170422T235900
DTSTAMP:20260420T001446
CREATED:20170422T121401
LAST-MODIFIED:20170422T121401
UID:200796@https://singpromos.com
SUMMARY:Save 8% to 28% OFF ALL Groupon Travel, Beauty, Leisure & Services & Dining deals (NO Min Spend) promo code valid till 22 Apr 2017, 6pm
DESCRIPTION:Get 8% to 28% off ALL Travel, Beauty, Leisure & Services & Dining deals with the promo code below at checkout at Groupon Singapore. Valid only for Travel, Beauty, Leisure & Services & Dining deals (Beauty 28%, Leisure & Services 18% & Dining 8%). For more information, visit [ https://singpromos.com/department-stores/save-8-to-28-off-all-groupon-travel-beauty-leisure-services-dining-deals-no-min-spend-promo-code-valid-till-22-apr-2017-6pm-200796/ ]. 
LOCATION:
URL:https://singpromos.com/department-stores/save-8-to-28-off-all-groupon-travel-beauty-leisure-services-dining-deals-no-min-spend-promo-code-valid-till-22-apr-2017-6pm-200796/
END:VEVENT
END:VCALENDAR