BEGIN:VCALENDAR
PRODID:-//SINGPromos.com//NONSGML v1.0//EN
VERSION:2.0
CALSCALE:GREGORIAN
METHOD:PUBLISH
X-WR-CALNAME:SINGPromos.com
X-ORIGINAL-URL:https://singpromos.com
X-WR-CALDESC:Events for SINGPromos.com
BEGIN:VEVENT
DTSTART:20170423T000000
DTEND:20170429T235900
DTSTAMP:20260422T082130
CREATED:20170423T162756
LAST-MODIFIED:20170423T231321
UID:200815@https://singpromos.com
SUMMARY:Delifrance: 1-for-1 coffee promotion at all* outlets from 23 - 29 Apr 2017
DESCRIPTION:Celebrate Administrative Professionals' Week with Delifrance 1-for-1 Coffee Promotion!. For more information, visit [ https://singpromos.com/dining-restaurants-food/delifrance-1-for-1-coffee-promotion-at-all-outlets-from-23-29-apr-2017-200815/ ]. 
LOCATION:
URL:https://singpromos.com/dining-restaurants-food/delifrance-1-for-1-coffee-promotion-at-all-outlets-from-23-29-apr-2017-200815/
END:VEVENT
END:VCALENDAR