BEGIN:VCALENDAR
PRODID:-//SINGPromos.com//NONSGML v1.0//EN
VERSION:2.0
CALSCALE:GREGORIAN
METHOD:PUBLISH
X-WR-CALNAME:SINGPromos.com
X-ORIGINAL-URL:https://singpromos.com
X-WR-CALDESC:Events for SINGPromos.com
BEGIN:VEVENT
DTSTART:20170424T000000
DTEND:20170425T235900
DTSTAMP:20260420T001237
CREATED:20170424T003841
LAST-MODIFIED:20170424T084301
UID:200823@https://singpromos.com
SUMMARY:Save 8% to 28% OFF selected Groupon Travel, Beauty, Leisure & Services & Dining deals (NO Min Spend) promo code valid till 25 Apr 2017
DESCRIPTION:Get 8% to 28% off selected Travel, Beauty, Leisure & Services & Dining deals with the promo code below at checkout at Groupon Singapore. Valid only for selected Travel, Beauty, Leisure & Services & Dining deals. For more information, visit [ https://singpromos.com/department-stores/save-8-to-28-off-selected-groupon-travel-beauty-leisure-services-dining-deals-no-min-spend-promo-code-valid-till-25-apr-2017-200823/ ]. 
LOCATION:
URL:https://singpromos.com/department-stores/save-8-to-28-off-selected-groupon-travel-beauty-leisure-services-dining-deals-no-min-spend-promo-code-valid-till-25-apr-2017-200823/
END:VEVENT
END:VCALENDAR