BEGIN:VCALENDAR
PRODID:-//SINGPromos.com//NONSGML v1.0//EN
VERSION:2.0
CALSCALE:GREGORIAN
METHOD:PUBLISH
X-WR-CALNAME:SINGPromos.com
X-ORIGINAL-URL:https://singpromos.com
X-WR-CALDESC:Events for SINGPromos.com
BEGIN:VEVENT
DTSTART:20170427T000000
DTEND:20170430T235900
DTSTAMP:20260420T035047
CREATED:20170425T143046
LAST-MODIFIED:20170425T143044
UID:200853@https://singpromos.com
SUMMARY:Save up to 80% off North Face, Asics, On, Zoot & more at Outdoor Venture's Warehouse Clearance sale from 27 - 30 Apr 2017
DESCRIPTION:Outdoor Venture will be having a Warehouse Clearance Sale from 27 - 30 April, 11am - 8pm daily. Enjoy UP TO 80% OFF on Winter & Sports Apparel, Backpacks, Running & Hiking Shoes, Accessories and many more from The North Face, Asics & more. For more information, visit [ https://singpromos.com/warehouse-sales/save-up-to-80-off-north-face-asics-on-zoot-more-at-outdoor-ventures-warehouse-clearance-sale-from-27-30-apr-2017-200853/ ]. 
LOCATION:17 Kaki Bukit Crescent, 416248
URL:https://singpromos.com/warehouse-sales/save-up-to-80-off-north-face-asics-on-zoot-more-at-outdoor-ventures-warehouse-clearance-sale-from-27-30-apr-2017-200853/
END:VEVENT
END:VCALENDAR