BEGIN:VCALENDAR
PRODID:-//SINGPromos.com//NONSGML v1.0//EN
VERSION:2.0
CALSCALE:GREGORIAN
METHOD:PUBLISH
X-WR-CALNAME:SINGPromos.com
X-ORIGINAL-URL:https://singpromos.com
X-WR-CALDESC:Events for SINGPromos.com
BEGIN:VEVENT
DTSTART:20170428T000000
DTEND:20170501T235900
DTSTAMP:20260422T082116
CREATED:20170427T140124
LAST-MODIFIED:20170501T091953
UID:201024@https://singpromos.com
SUMMARY:Harvey Norman Tech Expo 2017 at Singapore Expo from 28 Apr - 1 May 2017
DESCRIPTION:Join in at Harvey Norman SG Tech Expo 2017 for great savings, exclusive promotions and fun activities this Long Weekend! When: 28 April to 1 May 2017, 11am to 9.30pm. For more information, visit [ https://singpromos.com/warehouse-sales/harvey-norman-tech-expo-2017-at-singapore-expo-from-28-apr-1-may-2017-201024/ ]. 
LOCATION:486150
URL:https://singpromos.com/warehouse-sales/harvey-norman-tech-expo-2017-at-singapore-expo-from-28-apr-1-may-2017-201024/
END:VEVENT
END:VCALENDAR