BEGIN:VCALENDAR
PRODID:-//SINGPromos.com//NONSGML v1.0//EN
VERSION:2.0
CALSCALE:GREGORIAN
METHOD:PUBLISH
X-WR-CALNAME:SINGPromos.com
X-ORIGINAL-URL:https://singpromos.com
X-WR-CALDESC:Events for SINGPromos.com
BEGIN:VEVENT
DTSTART:20170501T000000
DTEND:20170507T235900
DTSTAMP:20260420T050907
CREATED:20170506T004219
LAST-MODIFIED:20170506T004219
UID:201340@https://singpromos.com
SUMMARY:JLCSPORTS.com up to 70% off branded sportswear sale at Harbourfront Centre from 1 - 7 May 2017
DESCRIPTION:JLCSPORTS.com is having a branded sportswear sale featuring discounts of up to 70% off at Harbourfront Centre from 1 May to 7 May 2017. More than 10,000 items are on sale!. For more information, visit [ https://singpromos.com/warehouse-sales/jlcsports-com-up-to-70-off-branded-sportswear-sale-at-harbourfront-centre-from-1-7-may-2017-201340/ ]. 
LOCATION:099253
URL:https://singpromos.com/warehouse-sales/jlcsports-com-up-to-70-off-branded-sportswear-sale-at-harbourfront-centre-from-1-7-may-2017-201340/
END:VEVENT
END:VCALENDAR