BEGIN:VCALENDAR
PRODID:-//SINGPromos.com//NONSGML v1.0//EN
VERSION:2.0
CALSCALE:GREGORIAN
METHOD:PUBLISH
X-WR-CALNAME:SINGPromos.com
X-ORIGINAL-URL:https://singpromos.com
X-WR-CALDESC:Events for SINGPromos.com
BEGIN:VEVENT
DTSTART:20170504T000000
DTEND:20170510T235900
DTSTAMP:20260420T050907
CREATED:20170506T004649
LAST-MODIFIED:20170506T004649
UID:201344@https://singpromos.com
SUMMARY:JLCSPORTS.com up to 70% off branded sportswear sale at Yewtee Point from 4 - 10 May 2017
DESCRIPTION:JLCSPORTS.com is having a branded sportswear sale featuring discounts of up to 70% off at Yewtee Point from 4 May to 10 May 2017. More than 10,000 items are on sale!. For more information, visit [ https://singpromos.com/warehouse-sales/jlcsports-com-up-to-70-off-branded-sportswear-sale-at-yewtee-point-from-4-10-may-2017-201344/ ]. 
LOCATION:689578
URL:https://singpromos.com/warehouse-sales/jlcsports-com-up-to-70-off-branded-sportswear-sale-at-yewtee-point-from-4-10-may-2017-201344/
END:VEVENT
END:VCALENDAR