BEGIN:VCALENDAR
PRODID:-//SINGPromos.com//NONSGML v1.0//EN
VERSION:2.0
CALSCALE:GREGORIAN
METHOD:PUBLISH
X-WR-CALNAME:SINGPromos.com
X-ORIGINAL-URL:https://singpromos.com
X-WR-CALDESC:Events for SINGPromos.com
BEGIN:VEVENT
DTSTART:20170509T000000
DTEND:20170608T235900
DTSTAMP:20260422T082109
CREATED:20170508T194031
LAST-MODIFIED:20170508T194031
UID:201458@https://singpromos.com
SUMMARY:Singapore Airlines releases new two-to-go & early bird exceptional fares for AMEX cardholders! Book from 9 May - 8 Jun 2017
DESCRIPTION:Discover the world with special all-in return Economy Class Early Bird and Min. Two-To-Go fares to over 55 exciting destinations.. For more information, visit [ https://singpromos.com/airlines-flights/singapore-airlines-releases-new-two-to-go-early-bird-exceptional-fares-for-amex-cardholders-book-from-9-may-8-jun-2017-201458/ ]. 
LOCATION:
URL:https://singpromos.com/airlines-flights/singapore-airlines-releases-new-two-to-go-early-bird-exceptional-fares-for-amex-cardholders-book-from-9-may-8-jun-2017-201458/
END:VEVENT
END:VCALENDAR