BEGIN:VCALENDAR
PRODID:-//SINGPromos.com//NONSGML v1.0//EN
VERSION:2.0
CALSCALE:GREGORIAN
METHOD:PUBLISH
X-WR-CALNAME:SINGPromos.com
X-ORIGINAL-URL:https://singpromos.com
X-WR-CALDESC:Events for SINGPromos.com
BEGIN:VEVENT
DTSTART:20170512T000000
DTEND:20170514T235900
DTSTAMP:20260422T082119
CREATED:20170511T173113
LAST-MODIFIED:20170511T173113
UID:201596@https://singpromos.com
SUMMARY:Emporium Shokuhin: 20% off storewide for 3-days only with OCBC cards from 12 - 14 May 2017
DESCRIPTION:Enjoy 20% off storewide at Japanese Grocer@Emporium Shokuhin Marina Square, exclusively with your OCBC Card. Valid from 12 - 14 May 2017.. For more information, visit [ https://singpromos.com/dining-restaurants-food/emporium-shokuhin-20-off-storewide-for-3-days-only-with-ocbc-cards-from-12-14-may-2017-201596/ ]. 
LOCATION:039594
URL:https://singpromos.com/dining-restaurants-food/emporium-shokuhin-20-off-storewide-for-3-days-only-with-ocbc-cards-from-12-14-may-2017-201596/
END:VEVENT
END:VCALENDAR