BEGIN:VCALENDAR
PRODID:-//SINGPromos.com//NONSGML v1.0//EN
VERSION:2.0
CALSCALE:GREGORIAN
METHOD:PUBLISH
X-WR-CALNAME:SINGPromos.com
X-ORIGINAL-URL:https://singpromos.com
X-WR-CALDESC:Events for SINGPromos.com
BEGIN:VEVENT
DTSTART:20170512T000000
DTEND:20170514T235900
DTSTAMP:20260420T165239
CREATED:20170512T101025
LAST-MODIFIED:20170512T161315
UID:201615@https://singpromos.com
SUMMARY:Jetstar: "Travel in style" sale fares from $35 all-in for 3-days only! Sale ends 14 May
DESCRIPTION:Travel in style sale fares from $35 all-in with Jetstar's 3-day sale! Check out the sale fares below. For more information, visit [ https://singpromos.com/airlines-flights/jetstar-travel-in-style-sale-fares-from-35-all-in-for-3-days-only-sale-ends-14-may-201615/ ]. 
LOCATION:
URL:https://singpromos.com/airlines-flights/jetstar-travel-in-style-sale-fares-from-35-all-in-for-3-days-only-sale-ends-14-may-201615/
END:VEVENT
END:VCALENDAR