BEGIN:VCALENDAR
PRODID:-//SINGPromos.com//NONSGML v1.0//EN
VERSION:2.0
CALSCALE:GREGORIAN
METHOD:PUBLISH
X-WR-CALNAME:SINGPromos.com
X-ORIGINAL-URL:https://singpromos.com
X-WR-CALDESC:Events for SINGPromos.com
BEGIN:VEVENT
DTSTART:20170523T000000
DTEND:20170604T235900
DTSTAMP:20260420T190505
CREATED:20170518T142042
LAST-MODIFIED:20170518T142730
UID:201922@https://singpromos.com
SUMMARY:NDP 2017 Tickets Application Dates & Procedures! Apply from 23 May - 4 Jun 2017
DESCRIPTION:National Day Parade (NDP) 2017 will be held at The Float @ Marina Bay. This year's parade will be an engaging spectacle for Singaporeans, with highlights such as a Salute to the Nation by the Republic of Singapore Air Force fighter aircraft & more. For more information, visit [ https://singpromos.com/places-of-interest/ndp-2017-tickets-application-dates-procedures-apply-from-23-may-4-jun-2017-201922/ ]. 
LOCATION:
URL:https://singpromos.com/places-of-interest/ndp-2017-tickets-application-dates-procedures-apply-from-23-may-4-jun-2017-201922/
END:VEVENT
END:VCALENDAR