BEGIN:VCALENDAR
PRODID:-//SINGPromos.com//NONSGML v1.0//EN
VERSION:2.0
CALSCALE:GREGORIAN
METHOD:PUBLISH
X-WR-CALNAME:SINGPromos.com
X-ORIGINAL-URL:https://singpromos.com
X-WR-CALDESC:Events for SINGPromos.com
BEGIN:VEVENT
DTSTART:20170526T000000
DTEND:20170528T235900
DTSTAMP:20260420T035618
CREATED:20170518T161207
LAST-MODIFIED:20170518T161207
UID:201927@https://singpromos.com
SUMMARY:Cristofori piano & other musical instruments warehouse sale from 26 - 28 May 2017
DESCRIPTION:Grab savings of up to 70% off at Cristofori Music's warehouse sale from 26 - 28 May 2017, 10am to 6pm daily.. For more information, visit [ https://singpromos.com/warehouse-sales/cristofori-piano-other-musical-instruments-warehouse-sale-from-26-28-may-2017-201927/ ]. 
LOCATION:489980
URL:https://singpromos.com/warehouse-sales/cristofori-piano-other-musical-instruments-warehouse-sale-from-26-28-may-2017-201927/
END:VEVENT
END:VCALENDAR