BEGIN:VCALENDAR
PRODID:-//SINGPromos.com//NONSGML v1.0//EN
VERSION:2.0
CALSCALE:GREGORIAN
METHOD:PUBLISH
X-WR-CALNAME:SINGPromos.com
X-ORIGINAL-URL:https://singpromos.com
X-WR-CALDESC:Events for SINGPromos.com
BEGIN:VEVENT
DTSTART:20170518T000000
DTEND:20170531T235900
DTSTAMP:20260422T202155
CREATED:20170518T165358
LAST-MODIFIED:20170518T165358
UID:201938@https://singpromos.com
SUMMARY:ZWILLING J.A. Henckels offers at Takashimaya from 18 - 31 May 2017
DESCRIPTION:Check out ZWILLING J.A. Henckels offers at Takashimaya now to 31 May 2017 at Household Department, B1. Sensational Zwilling choices. For more information, visit [ https://singpromos.com/kitchenware-cookware/zwilling-j-a-henckels-offers-at-takashimaya-from-18-31-may-2017-201938/ ]. 
LOCATION:238873
URL:https://singpromos.com/kitchenware-cookware/zwilling-j-a-henckels-offers-at-takashimaya-from-18-31-may-2017-201938/
END:VEVENT
END:VCALENDAR