BEGIN:VCALENDAR
PRODID:-//SINGPromos.com//NONSGML v1.0//EN
VERSION:2.0
CALSCALE:GREGORIAN
METHOD:PUBLISH
X-WR-CALNAME:SINGPromos.com
X-ORIGINAL-URL:https://singpromos.com
X-WR-CALDESC:Events for SINGPromos.com
BEGIN:VEVENT
DTSTART:20170519T000000
DTEND:20170605T235900
DTSTAMP:20260420T013710
CREATED:20170519T144900
LAST-MODIFIED:20170519T144929
UID:201988@https://singpromos.com
SUMMARY:World of Sports is throwing 50% off STOREWIDE at six outlets from 19 May 2017
DESCRIPTION:Enjoy 50% off storewide at World of Sports' crazy sports sale at six selected outlets - Tampines 1, Plaza Singapura, Westgate, Seletar Mall, Toa Payoh and 112 Katong. For more information, visit [ https://singpromos.com/sports/world-of-sports-is-throwing-50-off-storewide-at-six-outlets-from-19-may-2017-201988/ ]. 
LOCATION:
URL:https://singpromos.com/sports/world-of-sports-is-throwing-50-off-storewide-at-six-outlets-from-19-may-2017-201988/
END:VEVENT
END:VCALENDAR