BEGIN:VCALENDAR
PRODID:-//SINGPromos.com//NONSGML v1.0//EN
VERSION:2.0
CALSCALE:GREGORIAN
METHOD:PUBLISH
X-WR-CALNAME:SINGPromos.com
X-ORIGINAL-URL:https://singpromos.com
X-WR-CALDESC:Events for SINGPromos.com
BEGIN:VEVENT
DTSTART:20111202T000000
DTEND:20111204T235900
DTSTAMP:20260420T032141
CREATED:20111203T010553
LAST-MODIFIED:20111203T010553
UID:20202@https://singpromos.com
SUMMARY:Miss Selfridge, Warehouse, Karen Millen & MaxStudio.Com Bazaar Sale 2 - 4 Dec 2011
DESCRIPTION:Miss Selfridge, Warehouse, Karen Millen & MaxStudio.Com are collectively having a Bazaar sale till 4 December 2011 at Wing Tai Industrial Centre, 105 Tampines Road, 12pm to 7pm. For more information, visit [ https://singpromos.com/fashion-accessories/miss-selfridge-warehouse-karen-millen-maxstudio-com-bazaar-sale-2-4-dec-2011-20202/ ]. 
LOCATION:105 Tampines Road
URL:https://singpromos.com/fashion-accessories/miss-selfridge-warehouse-karen-millen-maxstudio-com-bazaar-sale-2-4-dec-2011-20202/
END:VEVENT
END:VCALENDAR