BEGIN:VCALENDAR
PRODID:-//SINGPromos.com//NONSGML v1.0//EN
VERSION:2.0
CALSCALE:GREGORIAN
METHOD:PUBLISH
X-WR-CALNAME:SINGPromos.com
X-ORIGINAL-URL:https://singpromos.com
X-WR-CALDESC:Events for SINGPromos.com
BEGIN:VEVENT
DTSTART:20170524T000000
DTEND:20170528T235900
DTSTAMP:20260422T082112
CREATED:20170524T142832
LAST-MODIFIED:20170524T142832
UID:202181@https://singpromos.com
SUMMARY:Citigems Warehouse Sale at Toa Payoh HDB Hub from 24 - 28 May 2017
DESCRIPTION:From now till 28 May 2017, head down to Citigems Warehouse Sale at Toa Payoh HDB Hub, Level 1 Atrium to enjoy great deals like FREE workmanship, daily promotional gold price and up to 80% off jewellery items!. For more information, visit [ https://singpromos.com/warehouse-sales/citigems-warehouse-sale-at-toa-payoh-hdb-hub-from-24-28-may-2017-202181/ ]. 
LOCATION:310480
URL:https://singpromos.com/warehouse-sales/citigems-warehouse-sale-at-toa-payoh-hdb-hub-from-24-28-may-2017-202181/
END:VEVENT
END:VCALENDAR