BEGIN:VCALENDAR
PRODID:-//SINGPromos.com//NONSGML v1.0//EN
VERSION:2.0
CALSCALE:GREGORIAN
METHOD:PUBLISH
X-WR-CALNAME:SINGPromos.com
X-ORIGINAL-URL:https://singpromos.com
X-WR-CALDESC:Events for SINGPromos.com
BEGIN:VEVENT
DTSTART:20170526T000000
DTEND:20170526T235900
DTSTAMP:20260420T165353
CREATED:20170526T095024
LAST-MODIFIED:20170526T095024
UID:202287@https://singpromos.com
SUMMARY:Jetstar: Friday Frenzy sale fares fr $36 all-in to 25 destinations for travel up to Nov '17! Book by 26 May 2017, 11pm
DESCRIPTION:Still deciding where to go in June? Don't miss out on last minute Jetstar's Frenzy Fares promotion running till 26 May , 11pm!. For more information, visit [ https://singpromos.com/airlines-flights/jetstar-friday-frenzy-sale-fares-fr-36-all-in-to-25-destinations-for-travel-up-to-nov-17-book-by-26-may-2017-11pm-202287/ ]. 
LOCATION:
URL:https://singpromos.com/airlines-flights/jetstar-friday-frenzy-sale-fares-fr-36-all-in-to-25-destinations-for-travel-up-to-nov-17-book-by-26-may-2017-11pm-202287/
END:VEVENT
END:VCALENDAR