BEGIN:VCALENDAR
PRODID:-//SINGPromos.com//NONSGML v1.0//EN
VERSION:2.0
CALSCALE:GREGORIAN
METHOD:PUBLISH
X-WR-CALNAME:SINGPromos.com
X-ORIGINAL-URL:https://singpromos.com
X-WR-CALDESC:Events for SINGPromos.com
BEGIN:VEVENT
DTSTART:20170529T000000
DTEND:20170529T235900
DTSTAMP:20260420T055454
CREATED:20170528T183750
LAST-MODIFIED:20170528T183954
UID:202341@https://singpromos.com
SUMMARY:Tuk Tuk Cha: 1-for-1 drinks at ALL outlets on 29 May 2017, till 5pm!
DESCRIPTION:1-1 drinks available tomorrow! Yup you read it right. 1-1 drinks are available tomorrow, 29 May across all Tuk Tuk Cha outlets from opening till 5pm.. For more information, visit [ https://singpromos.com/dining-restaurants-food/tuk-tuk-cha-1-for-1-drinks-at-all-outlets-on-29-may-2017-till-5pm-202341/ ]. 
LOCATION:
URL:https://singpromos.com/dining-restaurants-food/tuk-tuk-cha-1-for-1-drinks-at-all-outlets-on-29-may-2017-till-5pm-202341/
END:VEVENT
END:VCALENDAR