BEGIN:VCALENDAR
PRODID:-//SINGPromos.com//NONSGML v1.0//EN
VERSION:2.0
CALSCALE:GREGORIAN
METHOD:PUBLISH
X-WR-CALNAME:SINGPromos.com
X-ORIGINAL-URL:https://singpromos.com
X-WR-CALDESC:Events for SINGPromos.com
BEGIN:VEVENT
DTSTART:20170602T000000
DTEND:20170604T235900
DTSTAMP:20260420T165348
CREATED:20170602T115418
LAST-MODIFIED:20170602T120425
UID:202668@https://singpromos.com
SUMMARY:Jetstar Airways: Weekend Fare Frenzy sale fares fr $35 all-in to over 20 destinations! Book from 2 - 4 Jun 2017
DESCRIPTION:Jetstar's Night Owl Weekend Fare Frenzy is back! Featuring all-in sale fares to Taipei, Melbourne, Bali and more. For more information, visit [ https://singpromos.com/airlines-flights/jetstar-airways-weekend-fare-frenzy-sale-fares-fr-35-all-in-to-over-20-destinations-book-from-2-4-jun-2017-202668/ ]. 
LOCATION:
URL:https://singpromos.com/airlines-flights/jetstar-airways-weekend-fare-frenzy-sale-fares-fr-35-all-in-to-over-20-destinations-book-from-2-4-jun-2017-202668/
END:VEVENT
END:VCALENDAR