BEGIN:VCALENDAR
PRODID:-//SINGPromos.com//NONSGML v1.0//EN
VERSION:2.0
CALSCALE:GREGORIAN
METHOD:PUBLISH
X-WR-CALNAME:SINGPromos.com
X-ORIGINAL-URL:https://singpromos.com
X-WR-CALDESC:Events for SINGPromos.com
BEGIN:VEVENT
DTSTART:20111202T000000
DTEND:20111215T235900
DTSTAMP:20260422T082127
CREATED:20111203T092717
LAST-MODIFIED:20111203T092717
UID:20278@https://singpromos.com
SUMMARY:Golf Direct Christmas Sale 2 - 15 Dec 2011
DESCRIPTION:Golf Direct has launched their mid December 2011 promotion of golf equipment such as drivers, putters, cart bags and more till 15 December 2011 at their two outlets at Enterprise One and One Commonwealth.. For more information, visit [ https://singpromos.com/sports/golf-direct-christmas-sale-2-15-dec-2011-20278/ ]. 
LOCATION:
URL:https://singpromos.com/sports/golf-direct-christmas-sale-2-15-dec-2011-20278/
END:VEVENT
END:VCALENDAR