BEGIN:VCALENDAR
PRODID:-//SINGPromos.com//NONSGML v1.0//EN
VERSION:2.0
CALSCALE:GREGORIAN
METHOD:PUBLISH
X-WR-CALNAME:SINGPromos.com
X-ORIGINAL-URL:https://singpromos.com
X-WR-CALDESC:Events for SINGPromos.com
BEGIN:VEVENT
DTSTART:20170605T000000
DTEND:20170618T235900
DTSTAMP:20260422T082312
CREATED:20170607T143113
LAST-MODIFIED:20170607T143113
UID:202884@https://singpromos.com
SUMMARY:Popular: Up to 90% off at Jurong Point Renovation Lelong sale from 5 - 18 Jun 2017
DESCRIPTION:Lelong Lelong! Come join in at POPULAR Jurong Point where they are having their Renovation Lelong Sale!. For more information, visit [ https://singpromos.com/books/popular-up-to-90-off-at-jurong-point-renovation-lelong-sale-from-5-18-jun-2017-202884/ ]. 
LOCATION:648886
URL:https://singpromos.com/books/popular-up-to-90-off-at-jurong-point-renovation-lelong-sale-from-5-18-jun-2017-202884/
END:VEVENT
END:VCALENDAR