BEGIN:VCALENDAR
PRODID:-//SINGPromos.com//NONSGML v1.0//EN
VERSION:2.0
CALSCALE:GREGORIAN
METHOD:PUBLISH
X-WR-CALNAME:SINGPromos.com
X-ORIGINAL-URL:https://singpromos.com
X-WR-CALDESC:Events for SINGPromos.com
BEGIN:VEVENT
DTSTART:20170609T000000
DTEND:20170611T235900
DTSTAMP:20260420T020918
CREATED:20170608T182727
LAST-MODIFIED:20170608T182727
UID:202985@https://singpromos.com
SUMMARY:Baby Baby 2017 fair at Suntec from 9 - 11 Jun 2017
DESCRIPTION:Baby Baby is back - bigger, better and at a NEW location! Look forward to more Star Buys and fabulous deals coming your way in June 2017, happening at Suntec Singapore from 9 to 11 June!. For more information, visit [ https://singpromos.com/warehouse-sales/baby-baby-2017-fair-at-suntec-from-9-11-jun-2017-202985/ ]. 
LOCATION:039593
URL:https://singpromos.com/warehouse-sales/baby-baby-2017-fair-at-suntec-from-9-11-jun-2017-202985/
END:VEVENT
END:VCALENDAR