BEGIN:VCALENDAR
PRODID:-//SINGPromos.com//NONSGML v1.0//EN
VERSION:2.0
CALSCALE:GREGORIAN
METHOD:PUBLISH
X-WR-CALNAME:SINGPromos.com
X-ORIGINAL-URL:https://singpromos.com
X-WR-CALDESC:Events for SINGPromos.com
BEGIN:VEVENT
DTSTART:20170609T000000
DTEND:20170609T235900
DTSTAMP:20260420T165348
CREATED:20170609T102930
LAST-MODIFIED:20170609T102930
UID:203014@https://singpromos.com
SUMMARY:Jetstar: Friday Frenzy sale fares fr $36 all-in to 22 destinations for travel up to Nov '17! Book by 9 Jun 2017, 11pm
DESCRIPTION:All-in frenzy sale fares to Bangkok, Kuala Lumpur, Taipei and more from $36!? Don't miss out on last minute Jetstar's Frenzy Fares promotion running till 9 Jun , 11pm!. For more information, visit [ https://singpromos.com/airlines-flights/jetstar-friday-frenzy-sale-fares-fr-36-all-in-to-22-destinations-for-travel-up-to-nov-17-book-by-9-jun-2017-11pm-203014/ ]. 
LOCATION:
URL:https://singpromos.com/airlines-flights/jetstar-friday-frenzy-sale-fares-fr-36-all-in-to-22-destinations-for-travel-up-to-nov-17-book-by-9-jun-2017-11pm-203014/
END:VEVENT
END:VCALENDAR