BEGIN:VCALENDAR
PRODID:-//SINGPromos.com//NONSGML v1.0//EN
VERSION:2.0
CALSCALE:GREGORIAN
METHOD:PUBLISH
X-WR-CALNAME:SINGPromos.com
X-ORIGINAL-URL:https://singpromos.com
X-WR-CALDESC:Events for SINGPromos.com
BEGIN:VEVENT
DTSTART:20170612T000000
DTEND:20170702T235900
DTSTAMP:20260420T231901
CREATED:20170612T032635
LAST-MODIFIED:20170612T003050
UID:203061@https://singpromos.com
SUMMARY:Zuji 12% off hotels coupon code with Mastercard cards! Valid from 12 Jun - 2 Jul 2017
DESCRIPTION:Search over 150,000 hotels at discounted rates and get an additional 12% OFF with this coupon code for Mastercard cardmembers. Book a flight or flight+hotel package deal and enjoy up to $100 rebate on flight or package bookings.. For more information, visit [ https://singpromos.com/vacations/zuji-12-off-hotels-coupon-code-with-mastercard-cards-valid-from-12-jun-2-jul-2017-203061/ ]. 
LOCATION:
URL:https://singpromos.com/vacations/zuji-12-off-hotels-coupon-code-with-mastercard-cards-valid-from-12-jun-2-jul-2017-203061/
END:VEVENT
END:VCALENDAR