BEGIN:VCALENDAR
PRODID:-//SINGPromos.com//NONSGML v1.0//EN
VERSION:2.0
CALSCALE:GREGORIAN
METHOD:PUBLISH
X-WR-CALNAME:SINGPromos.com
X-ORIGINAL-URL:https://singpromos.com
X-WR-CALDESC:Events for SINGPromos.com
BEGIN:VEVENT
DTSTART:20170701T000000
DTEND:20171231T235900
DTSTAMP:20260422T082322
CREATED:20170621T210218
LAST-MODIFIED:20170621T210218
UID:203504@https://singpromos.com
SUMMARY:Délifrance: 1-for-1 Freshly Brewed Coffee for NTUC members! From 1 Jul - 31 Dec 2017
DESCRIPTION:Enjoy 1-FOR-1 Freshly Brewed Coffee at Delifrance. The promo applies as long as you are holding a silver-coloured NTUC Plus! card.. For more information, visit [ https://singpromos.com/dining-restaurants-food/delifrance-1-for-1-freshly-brewed-coffee-for-ntuc-members-from-1-jul-31-dec-2017-203504/ ]. 
LOCATION:
URL:https://singpromos.com/dining-restaurants-food/delifrance-1-for-1-freshly-brewed-coffee-for-ntuc-members-from-1-jul-31-dec-2017-203504/
END:VEVENT
END:VCALENDAR