BEGIN:VCALENDAR
PRODID:-//SINGPromos.com//NONSGML v1.0//EN
VERSION:2.0
CALSCALE:GREGORIAN
METHOD:PUBLISH
X-WR-CALNAME:SINGPromos.com
X-ORIGINAL-URL:https://singpromos.com
X-WR-CALDESC:Events for SINGPromos.com
BEGIN:VEVENT
DTSTART:20170623T000000
DTEND:20170626T235900
DTSTAMP:20260420T055546
CREATED:20170621T212531
LAST-MODIFIED:20170622T002941
UID:203507@https://singpromos.com
SUMMARY:Giant: Up to 60% off warehouse clearance sale at Tampines from 23 - 26 Jun 2017
DESCRIPTION:Selected household and home appliance MEGA sales happening at Giant Tampines! Save up to 60% for 4 days only from 23 - 26 June 2017!. For more information, visit [ https://singpromos.com/warehouse-sales/giant-up-to-60-off-warehouse-clearance-sale-at-tampines-from-23-26-jun-2017-203507/ ]. 
LOCATION:528765
URL:https://singpromos.com/warehouse-sales/giant-up-to-60-off-warehouse-clearance-sale-at-tampines-from-23-26-jun-2017-203507/
END:VEVENT
END:VCALENDAR