BEGIN:VCALENDAR
PRODID:-//SINGPromos.com//NONSGML v1.0//EN
VERSION:2.0
CALSCALE:GREGORIAN
METHOD:PUBLISH
X-WR-CALNAME:SINGPromos.com
X-ORIGINAL-URL:https://singpromos.com
X-WR-CALDESC:Events for SINGPromos.com
BEGIN:VEVENT
DTSTART:20170623T000000
DTEND:20170629T235900
DTSTAMP:20260422T073932
CREATED:20170622T132057
LAST-MODIFIED:20170622T132057
UID:203538@https://singpromos.com
SUMMARY:Machida Shoten: 1-for-1 ramen at Wisma Atria! From 23 - 29 Jun 2017
DESCRIPTION:Machida Shoten was founded in January 2008 with its first shop located in Machida City, Tokyo. They serve authentic signature Yokohama-Iekei ramen, which originated in the year 1974 in Kanagawa Prefecture, Yokohama City.. For more information, visit [ https://singpromos.com/dining-restaurants-food/machida-shoten-1-for-1-ramen-at-wisma-atria-from-23-29-jun-2017-203538/ ]. 
LOCATION:238877
URL:https://singpromos.com/dining-restaurants-food/machida-shoten-1-for-1-ramen-at-wisma-atria-from-23-29-jun-2017-203538/
END:VEVENT
END:VCALENDAR