BEGIN:VCALENDAR
PRODID:-//SINGPromos.com//NONSGML v1.0//EN
VERSION:2.0
CALSCALE:GREGORIAN
METHOD:PUBLISH
X-WR-CALNAME:SINGPromos.com
X-ORIGINAL-URL:https://singpromos.com
X-WR-CALDESC:Events for SINGPromos.com
BEGIN:VEVENT
DTSTART:20170623T000000
DTEND:20170625T235900
DTSTAMP:20260420T182441
CREATED:20170623T125625
LAST-MODIFIED:20170623T150606
UID:203615@https://singpromos.com
SUMMARY:Jetstar: Weekend Fare Frenzy sale fares fr $36 all-in to over 20 destinations! Book from 23 - 25 Jun 2017
DESCRIPTION:Hari Raya special Weekend Fare Frenzy starts now! Double the happiness this weekend.! Featuring all-in sale fares to Taipei, Melbourne, Bali and more. For more information, visit [ https://singpromos.com/airlines-flights/jetstar-weekend-fare-frenzy-sale-fares-fr-36-all-in-to-over-20-destinations-book-from-23-25-jun-2017-203615/ ]. 
LOCATION:
URL:https://singpromos.com/airlines-flights/jetstar-weekend-fare-frenzy-sale-fares-fr-36-all-in-to-over-20-destinations-book-from-23-25-jun-2017-203615/
END:VEVENT
END:VCALENDAR