BEGIN:VCALENDAR
PRODID:-//SINGPromos.com//NONSGML v1.0//EN
VERSION:2.0
CALSCALE:GREGORIAN
METHOD:PUBLISH
X-WR-CALNAME:SINGPromos.com
X-ORIGINAL-URL:https://singpromos.com
X-WR-CALDESC:Events for SINGPromos.com
BEGIN:VEVENT
DTSTART:20170627T000000
DTEND:20170627T235900
DTSTAMP:20260420T055453
CREATED:20170626T132656
LAST-MODIFIED:20170626T132656
UID:203689@https://singpromos.com
SUMMARY:Tuk Tuk Cha: 1-for-1 drinks at ALL outlets on 27 Jun 2017, till 5pm!
DESCRIPTION:It's the time of the month! Promotion is valid for on Tuesday, 27 June 2017. Enjoy 1-f-or-1 on all $3 cold regular drinks across all outlets available from opening to 5pm.. For more information, visit [ https://singpromos.com/dining-restaurants-food/tuk-tuk-cha-1-for-1-drinks-at-all-outlets-on-27-jun-2017-till-5pm-203689/ ]. 
LOCATION:
URL:https://singpromos.com/dining-restaurants-food/tuk-tuk-cha-1-for-1-drinks-at-all-outlets-on-27-jun-2017-till-5pm-203689/
END:VEVENT
END:VCALENDAR