BEGIN:VCALENDAR
PRODID:-//SINGPromos.com//NONSGML v1.0//EN
VERSION:2.0
CALSCALE:GREGORIAN
METHOD:PUBLISH
X-WR-CALNAME:SINGPromos.com
X-ORIGINAL-URL:https://singpromos.com
X-WR-CALDESC:Events for SINGPromos.com
BEGIN:VEVENT
DTSTART:20170628T000000
DTEND:20170831T235900
DTSTAMP:20260419T230542
CREATED:20170628T134118
LAST-MODIFIED:20170628T134118
UID:203737@https://singpromos.com
SUMMARY:Mad for Garlic: 1-for-1 Pizza/Pasta & more! Valid from 28 Jun - 31 Aug 2017
DESCRIPTION:The celebration of National Day has begun at Mad for Garlic. From now till 31 August, enjoy 1-for-1 on Pizza or Pasta, or 35% off a la carte menu items.. For more information, visit [ https://singpromos.com/dining-restaurants-food/mad-for-garlic-1-for-1-pizzapasta-more-valid-from-28-jun-31-aug-2017-203737/ ]. 
LOCATION:038983
URL:https://singpromos.com/dining-restaurants-food/mad-for-garlic-1-for-1-pizzapasta-more-valid-from-28-jun-31-aug-2017-203737/
END:VEVENT
END:VCALENDAR