BEGIN:VCALENDAR
PRODID:-//SINGPromos.com//NONSGML v1.0//EN
VERSION:2.0
CALSCALE:GREGORIAN
METHOD:PUBLISH
X-WR-CALNAME:SINGPromos.com
X-ORIGINAL-URL:https://singpromos.com
X-WR-CALDESC:Events for SINGPromos.com
BEGIN:VEVENT
DTSTART:20170704T000000
DTEND:20170704T235900
DTSTAMP:20260420T055547
CREATED:20170701T144201
LAST-MODIFIED:20170701T151624
UID:203898@https://singpromos.com
SUMMARY:Tuk Tuk Cha: 50% off EVERYTHING at all outlets on 4 Jul 2017
DESCRIPTION:THIS IS NOT A DRILL. 50% OFF EVERYTHING ON 4th JULY 2017. Yes, enjoy 50% off everything on 4th July 2017 across all outlets. Cheers to Tuk Tuk Cha's 2nd anniversary!. For more information, visit [ https://singpromos.com/dining-restaurants-food/tuk-tuk-cha-50-off-everything-at-all-outlets-on-4-jul-2017-203898/ ]. 
LOCATION:
URL:https://singpromos.com/dining-restaurants-food/tuk-tuk-cha-50-off-everything-at-all-outlets-on-4-jul-2017-203898/
END:VEVENT
END:VCALENDAR