BEGIN:VCALENDAR
PRODID:-//SINGPromos.com//NONSGML v1.0//EN
VERSION:2.0
CALSCALE:GREGORIAN
METHOD:PUBLISH
X-WR-CALNAME:SINGPromos.com
X-ORIGINAL-URL:https://singpromos.com
X-WR-CALDESC:Events for SINGPromos.com
BEGIN:VEVENT
DTSTART:20170703T000000
DTEND:20170709T235900
DTSTAMP:20260420T182444
CREATED:20170703T141951
LAST-MODIFIED:20170704T141031
UID:203941@https://singpromos.com
SUMMARY:AirAsia: Fares fr 90¢ to over 70 destinations! Book from 3 - 9 Jul 2017
DESCRIPTION:AirAsia has won the World's Best Low-Cost Airline for the 9th consecutive year! To celebrate and thank you, they are offering awesome deals to Bandung, Bangkok, Cebu, Jakarta, Kuching, Langkawi, Phuket, Honolulu, Osaka and more from just $0.90!. For more information, visit [ https://singpromos.com/airlines-flights/airasia-fares-fr-90c-to-over-70-destinations-book-from-3-9-jul-2017-203941/ ]. 
LOCATION:
URL:https://singpromos.com/airlines-flights/airasia-fares-fr-90c-to-over-70-destinations-book-from-3-9-jul-2017-203941/
END:VEVENT
END:VCALENDAR