BEGIN:VCALENDAR
PRODID:-//SINGPromos.com//NONSGML v1.0//EN
VERSION:2.0
CALSCALE:GREGORIAN
METHOD:PUBLISH
X-WR-CALNAME:SINGPromos.com
X-ORIGINAL-URL:https://singpromos.com
X-WR-CALDESC:Events for SINGPromos.com
BEGIN:VEVENT
DTSTART:20170703T000000
DTEND:20170716T235900
DTSTAMP:20260420T231906
CREATED:20170703T233929
LAST-MODIFIED:20170703T233929
UID:203967@https://singpromos.com
SUMMARY:Zuji 10% off hotels coupon code with UOB cards! Valid from 3 - 16 Jul 2017
DESCRIPTION:Search over 150,000 hotels at discounted rates and get an additional 10% OFF with this coupon code for UOB cardmembers. Book a flight or flight+hotel package deal and enjoy up to $100 rebate on flight or package bookings.. For more information, visit [ https://singpromos.com/vacations/zuji-10-off-hotels-coupon-code-with-uob-cards-valid-from-3-16-jul-2017-203967/ ]. 
LOCATION:
URL:https://singpromos.com/vacations/zuji-10-off-hotels-coupon-code-with-uob-cards-valid-from-3-16-jul-2017-203967/
END:VEVENT
END:VCALENDAR