BEGIN:VCALENDAR
PRODID:-//SINGPromos.com//NONSGML v1.0//EN
VERSION:2.0
CALSCALE:GREGORIAN
METHOD:PUBLISH
X-WR-CALNAME:SINGPromos.com
X-ORIGINAL-URL:https://singpromos.com
X-WR-CALDESC:Events for SINGPromos.com
BEGIN:VEVENT
DTSTART:20170708T000000
DTEND:20170709T235900
DTSTAMP:20260420T055547
CREATED:20170705T225014
LAST-MODIFIED:20170705T225014
UID:204026@https://singpromos.com
SUMMARY:Dynasty Travel fair at Suntec from 8 - 9 Jul 2017
DESCRIPTION:Dynasty Travel will be at Suntec West Atrium (outside H&M) for their yearly Thanksgiving Fair! GREAT Discounts coming your way with newly launched packages for year-end, best price guaranteed* ONLY during this fair. For more information, visit [ https://singpromos.com/happenings/dynasty-travel-fair-at-suntec-from-8-9-jul-2017-204026/ ]. 
LOCATION:038983
URL:https://singpromos.com/happenings/dynasty-travel-fair-at-suntec-from-8-9-jul-2017-204026/
END:VEVENT
END:VCALENDAR