BEGIN:VCALENDAR
PRODID:-//SINGPromos.com//NONSGML v1.0//EN
VERSION:2.0
CALSCALE:GREGORIAN
METHOD:PUBLISH
X-WR-CALNAME:SINGPromos.com
X-ORIGINAL-URL:https://singpromos.com
X-WR-CALDESC:Events for SINGPromos.com
BEGIN:VEVENT
DTSTART:20170722T000000
DTEND:20170723T235900
DTSTAMP:20260420T001237
CREATED:20170710T163316
LAST-MODIFIED:20170711T123037
UID:204202@https://singpromos.com
SUMMARY:Electrolux Family Sale - Up to 80% OFF! From 22 - 23 Jul 2017
DESCRIPTION:The Annual Electrolux Family Sale is BACK for MORE! On 22 & 23 July (Sat/ Sun), from 930-6pm, limited units are up for grabs for 2 days only!. For more information, visit [ https://singpromos.com/warehouse-sales/electrolux-family-sale-up-to-80-off-from-22-23-jul-2017-204202/ ]. 
LOCATION:8 Bulim Avenue, 648166
URL:https://singpromos.com/warehouse-sales/electrolux-family-sale-up-to-80-off-from-22-23-jul-2017-204202/
END:VEVENT
END:VCALENDAR