BEGIN:VCALENDAR
PRODID:-//SINGPromos.com//NONSGML v1.0//EN
VERSION:2.0
CALSCALE:GREGORIAN
METHOD:PUBLISH
X-WR-CALNAME:SINGPromos.com
X-ORIGINAL-URL:https://singpromos.com
X-WR-CALDESC:Events for SINGPromos.com
BEGIN:VEVENT
DTSTART:20170711T000000
DTEND:20171120T235900
DTSTAMP:20260420T191405
CREATED:20170711T112218
LAST-MODIFIED:20170712T144706
UID:204293@https://singpromos.com
SUMMARY:Dunkin' Donuts: $8.50 for six regular donuts (U.P. $10.30) coupon at all outlets! Valid from 11 Jul - 20 Nov 2017
DESCRIPTION:Enjoy six regular donuts for only $8.50 (U.P. $10.30) at Dunkin' Donuts now till 20 Nov 2017! Get Dunkin' at any Donuts outlet (except Changi Airport Transit). For more information, visit [ https://singpromos.com/dining-restaurants-food/dunkin-donuts-8-50-for-six-regular-donuts-u-p-10-30-coupon-at-all-outlets-valid-from-11-jul-20-nov-2017-204293/ ]. 
LOCATION:
URL:https://singpromos.com/dining-restaurants-food/dunkin-donuts-8-50-for-six-regular-donuts-u-p-10-30-coupon-at-all-outlets-valid-from-11-jul-20-nov-2017-204293/
END:VEVENT
END:VCALENDAR