BEGIN:VCALENDAR
PRODID:-//SINGPromos.com//NONSGML v1.0//EN
VERSION:2.0
CALSCALE:GREGORIAN
METHOD:PUBLISH
X-WR-CALNAME:SINGPromos.com
X-ORIGINAL-URL:https://singpromos.com
X-WR-CALDESC:Events for SINGPromos.com
BEGIN:VEVENT
DTSTART:20170711T000000
DTEND:20170716T235900
DTSTAMP:20260420T182441
CREATED:20170711T123928
LAST-MODIFIED:20170711T124017
UID:204315@https://singpromos.com
SUMMARY:Jetstar Airways: UOB cardholders exclusive fares fr $37 all-in to over 20 destinations! From now till 16 Jul 2017
DESCRIPTION:UOB Cards Exclusive Sale! Exclusive all-in sale fares to Osaka, Melbourne and more. Exclusive sale fares departing Singapore. One way economy Starter fares with 7kg carry-on baggage only.. For more information, visit [ https://singpromos.com/airlines-flights/jetstar-airways-uob-cardholders-exclusive-fares-fr-37-all-in-to-over-20-destinations-from-now-till-16-jul-2017-204315/ ]. 
LOCATION:
URL:https://singpromos.com/airlines-flights/jetstar-airways-uob-cardholders-exclusive-fares-fr-37-all-in-to-over-20-destinations-from-now-till-16-jul-2017-204315/
END:VEVENT
END:VCALENDAR